BEGIN:VCALENDAR
VERSION:2.0
PRODID:-//jEvents 2.0 for Joomla//EN
CALSCALE:GREGORIAN
METHOD:PUBLISH
BEGIN:VEVENT
UID:1d08d7d33937349f3b4e27f7f42abe5d
CATEGORIES:Mehrzweckhalle
CREATED:20250909T071528
SUMMARY:Polterabend 
DESCRIPTION:
CONTACT:Florian und Johanna
DTSTAMP:20260426T013034
DTSTART;VALUE=DATE:20260530
DTEND;VALUE=DATE:20260531
SEQUENCE:0
TRANSP:OPAQUE
END:VEVENT
END:VCALENDAR