BEGIN:VCALENDAR
VERSION:2.0
PRODID:-//jEvents 2.0 for Joomla//EN
CALSCALE:GREGORIAN
METHOD:PUBLISH
BEGIN:VEVENT
UID:ca2b364fed6da995e8ba0b54bd2a9e9c
CATEGORIES:Mehrzweckhalle
CREATED:20250720T150531
SUMMARY:Weihnachtsfeier 
DESCRIPTION:
DTSTAMP:20260426T000939
DTSTART:20251225T070000
SEQUENCE:0
TRANSP:OPAQUE
END:VEVENT
END:VCALENDAR