BEGIN:VCALENDAR
VERSION:2.0
PRODID:-//jEvents 2.0 for Joomla//EN
CALSCALE:GREGORIAN
METHOD:PUBLISH
BEGIN:VEVENT
UID:cdebbda1b1766ad3a61605809e58e993
CATEGORIES:Schutzhütte
CREATED:20250522T114738
SUMMARY:Klassenabschluss
LOCATION:Schutzhütte 
DESCRIPTION:
DTSTAMP:20260425T221701
DTSTART;VALUE=DATE:20260612
DTEND;VALUE=DATE:20260613
SEQUENCE:0
TRANSP:OPAQUE
END:VEVENT
END:VCALENDAR