BEGIN:VCALENDAR
VERSION:2.0
PRODID:-//jEvents 2.0 for Joomla//EN
CALSCALE:GREGORIAN
METHOD:PUBLISH
BEGIN:VEVENT
UID:c088f703387051afc5b955bb5f9be68f
CATEGORIES:Mehrzweckhalle
CREATED:19700101T010000
SUMMARY:Kinderturnen 
DESCRIPTION:
DTSTAMP:20260425T201656
DTSTART:20250320T143000
DTEND:20250320T170000
SEQUENCE:0
RRULE:FREQ=WEEKLY;COUNT=101;INTERVAL=1;BYDAY=TH
TRANSP:OPAQUE
END:VEVENT
END:VCALENDAR