BEGIN:VCALENDAR
VERSION:2.0
PRODID:-//jEvents 2.0 for Joomla//EN
CALSCALE:GREGORIAN
METHOD:PUBLISH
BEGIN:VEVENT
UID:b1057e1488e9df897e1c601c49a618e2
CATEGORIES:Schutzhütte
CREATED:20250311T193805
SUMMARY:Belegt 
LOCATION:Schutzhütte 
DESCRIPTION:
DTSTAMP:20260426T011835
DTSTART;VALUE=DATE:20250425
DTEND;VALUE=DATE:20250428
SEQUENCE:0
TRANSP:OPAQUE
END:VEVENT
END:VCALENDAR