BEGIN:VCALENDAR
VERSION:2.0
PRODID:-//jEvents 2.0 for Joomla//EN
CALSCALE:GREGORIAN
METHOD:PUBLISH
BEGIN:VEVENT
UID:10e7e7025a48e61604664d69f7fda624
CATEGORIES:Mehrzweckhalle
CREATED:19700101T010000
SUMMARY:Turnen 
DESCRIPTION:
DTSTAMP:20260426T000856
DTSTART:20250307T133000
DTEND:20250307T160000
SEQUENCE:0
RRULE:FREQ=WEEKLY;UNTIL=20260308T000000Z;INTERVAL=1;BYDAY=FR
TRANSP:OPAQUE
END:VEVENT
END:VCALENDAR