BEGIN:VCALENDAR
VERSION:2.0
PRODID:-//jEvents 2.0 for Joomla//EN
CALSCALE:GREGORIAN
METHOD:PUBLISH
BEGIN:VEVENT
UID:d89b8721e1f1e9d1d784816db5c277cc
CATEGORIES:Mehrzweckhalle
CREATED:20250216T151405
SUMMARY:Turnen 
DESCRIPTION:
DTSTAMP:20260426T010753
DTSTART:20250221T140000
DTEND:20250221T163000
SEQUENCE:0
TRANSP:OPAQUE
END:VEVENT
END:VCALENDAR