BEGIN:VCALENDAR
VERSION:2.0
PRODID:-//jEvents 2.0 for Joomla//EN
CALSCALE:GREGORIAN
METHOD:PUBLISH
BEGIN:VEVENT
UID:26b3fab7188b333906f7bb12f4cd54d6
CATEGORIES:Mehrzweckhalle
CREATED:20250216T140203
SUMMARY:Geburtstag 
DESCRIPTION:
DTSTAMP:20260426T030323
DTSTART;VALUE=DATE:20250315
DTEND;VALUE=DATE:20250316
SEQUENCE:0
TRANSP:OPAQUE
END:VEVENT
END:VCALENDAR