BEGIN:VCALENDAR
VERSION:2.0
PRODID:-//jEvents 2.0 for Joomla//EN
CALSCALE:GREGORIAN
METHOD:PUBLISH
BEGIN:VEVENT
UID:76d21215208b845016876af931dcbdd3
CATEGORIES:Mehrzweckhalle
CREATED:20250216T134932
SUMMARY:573494
DESCRIPTION:
DTSTAMP:20260425T203144
DTSTART;VALUE=DATE:20250227
DTEND;VALUE=DATE:20250228
SEQUENCE:0
TRANSP:OPAQUE
END:VEVENT
END:VCALENDAR